BEGIN:VCALENDAR
VERSION:2.0
PRODID:-//E³UDRES² Arena - ECPv6.15.20//NONSGML v1.0//EN
CALSCALE:GREGORIAN
METHOD:PUBLISH
X-WR-CALNAME:E³UDRES² Arena
X-ORIGINAL-URL:https://arena.eudres.eu
X-WR-CALDESC:Events for E³UDRES² Arena
REFRESH-INTERVAL;VALUE=DURATION:PT1H
X-Robots-Tag:noindex
X-PUBLISHED-TTL:PT1H
BEGIN:VTIMEZONE
TZID:Europe/Brussels
BEGIN:DAYLIGHT
TZOFFSETFROM:+0100
TZOFFSETTO:+0200
TZNAME:CEST
DTSTART:20250330T010000
END:DAYLIGHT
BEGIN:STANDARD
TZOFFSETFROM:+0200
TZOFFSETTO:+0100
TZNAME:CET
DTSTART:20251026T010000
END:STANDARD
BEGIN:DAYLIGHT
TZOFFSETFROM:+0100
TZOFFSETTO:+0200
TZNAME:CEST
DTSTART:20260329T010000
END:DAYLIGHT
BEGIN:STANDARD
TZOFFSETFROM:+0200
TZOFFSETTO:+0100
TZNAME:CET
DTSTART:20261025T010000
END:STANDARD
BEGIN:DAYLIGHT
TZOFFSETFROM:+0100
TZOFFSETTO:+0200
TZNAME:CEST
DTSTART:20270328T010000
END:DAYLIGHT
BEGIN:STANDARD
TZOFFSETFROM:+0200
TZOFFSETTO:+0100
TZNAME:CET
DTSTART:20271031T010000
END:STANDARD
END:VTIMEZONE
BEGIN:VEVENT
DTSTART;TZID=Europe/Brussels:20260603T110000
DTEND;TZID=Europe/Brussels:20260603T120000
DTSTAMP:20260420T202152
CREATED:20260417T092709Z
LAST-MODIFIED:20260420T090517Z
UID:4891-1780484400-1780488000@arena.eudres.eu
SUMMARY:Navigating EU Calls and Research Policy: A Webinar for PhD Candidates
DESCRIPTION:
URL:https://arena.eudres.eu/activity/navigating-eu-calls-and-research-policy-a-webinar-for-phd-candidates/
LOCATION:Online
CATEGORIES:Research Activity
ATTACH;FMTTYPE=image/jpeg:https://arena.eudres.eu/wp-content/uploads/2026/03/default-activity-image-scaled.jpeg
END:VEVENT
END:VCALENDAR