BEGIN:VCALENDAR
VERSION:2.0
PRODID:-//E³UDRES² Arena - ECPv6.15.20//NONSGML v1.0//EN
CALSCALE:GREGORIAN
METHOD:PUBLISH
X-WR-CALNAME:E³UDRES² Arena
X-ORIGINAL-URL:https://arena.eudres.eu
X-WR-CALDESC:Events for E³UDRES² Arena
REFRESH-INTERVAL;VALUE=DURATION:PT1H
X-Robots-Tag:noindex
X-PUBLISHED-TTL:PT1H
BEGIN:VTIMEZONE
TZID:Europe/Brussels
BEGIN:DAYLIGHT
TZOFFSETFROM:+0100
TZOFFSETTO:+0200
TZNAME:CEST
DTSTART:20250330T010000
END:DAYLIGHT
BEGIN:STANDARD
TZOFFSETFROM:+0200
TZOFFSETTO:+0100
TZNAME:CET
DTSTART:20251026T010000
END:STANDARD
BEGIN:DAYLIGHT
TZOFFSETFROM:+0100
TZOFFSETTO:+0200
TZNAME:CEST
DTSTART:20260329T010000
END:DAYLIGHT
BEGIN:STANDARD
TZOFFSETFROM:+0200
TZOFFSETTO:+0100
TZNAME:CET
DTSTART:20261025T010000
END:STANDARD
BEGIN:DAYLIGHT
TZOFFSETFROM:+0100
TZOFFSETTO:+0200
TZNAME:CEST
DTSTART:20270328T010000
END:DAYLIGHT
BEGIN:STANDARD
TZOFFSETFROM:+0200
TZOFFSETTO:+0100
TZNAME:CET
DTSTART:20271031T010000
END:STANDARD
END:VTIMEZONE
BEGIN:VEVENT
DTSTART;TZID=Europe/Brussels:20260401T080000
DTEND;TZID=Europe/Brussels:20260401T170000
DTSTAMP:20260420T184248
CREATED:20260401T082531Z
LAST-MODIFIED:20260401T082531Z
UID:10000009-1775030400-1775062800@arena.eudres.eu
SUMMARY:Test 2
DESCRIPTION:
URL:https://arena.eudres.eu/activity/test-2/
END:VEVENT
BEGIN:VEVENT
DTSTART;TZID=Europe/Brussels:20260401T080000
DTEND;TZID=Europe/Brussels:20260401T170000
DTSTAMP:20260420T184248
CREATED:20260401T081909Z
LAST-MODIFIED:20260401T082512Z
UID:10000008-1775030400-1775062800@arena.eudres.eu
SUMMARY:Test
DESCRIPTION:adasdasd Type your paragraph here \nOther\n\nOpen for\nE³UDRES² Students\nOnline/On-site\nHybrid\nDuration\n0.5 – 24 hours\nSemester\nSpring/Summer\nRecognition\nECTS\nLanguage\nEnglish|German
URL:https://arena.eudres.eu/activity/test/
LOCATION:Politehnica University Timisoara\, Timișoara\, Romania
END:VEVENT
END:VCALENDAR