BEGIN:VCALENDAR
VERSION:2.0
PRODID:-//E³UDRES² Arena - ECPv6.15.20//NONSGML v1.0//EN
CALSCALE:GREGORIAN
METHOD:PUBLISH
X-WR-CALNAME:E³UDRES² Arena
X-ORIGINAL-URL:https://arena.eudres.eu
X-WR-CALDESC:Events for E³UDRES² Arena
REFRESH-INTERVAL;VALUE=DURATION:PT1H
X-Robots-Tag:noindex
X-PUBLISHED-TTL:PT1H
BEGIN:VTIMEZONE
TZID:Europe/Brussels
BEGIN:DAYLIGHT
TZOFFSETFROM:+0100
TZOFFSETTO:+0200
TZNAME:CEST
DTSTART:20250330T010000
END:DAYLIGHT
BEGIN:STANDARD
TZOFFSETFROM:+0200
TZOFFSETTO:+0100
TZNAME:CET
DTSTART:20251026T010000
END:STANDARD
BEGIN:DAYLIGHT
TZOFFSETFROM:+0100
TZOFFSETTO:+0200
TZNAME:CEST
DTSTART:20260329T010000
END:DAYLIGHT
BEGIN:STANDARD
TZOFFSETFROM:+0200
TZOFFSETTO:+0100
TZNAME:CET
DTSTART:20261025T010000
END:STANDARD
BEGIN:DAYLIGHT
TZOFFSETFROM:+0100
TZOFFSETTO:+0200
TZNAME:CEST
DTSTART:20270328T010000
END:DAYLIGHT
BEGIN:STANDARD
TZOFFSETFROM:+0200
TZOFFSETTO:+0100
TZNAME:CET
DTSTART:20271031T010000
END:STANDARD
END:VTIMEZONE
BEGIN:VEVENT
DTSTART;VALUE=DATE:20260422
DTEND;VALUE=DATE:20260509
DTSTAMP:20260420T201511
CREATED:20260410T085002Z
LAST-MODIFIED:20260420T181033Z
UID:10000015-1776816000-1778284799@arena.eudres.eu
SUMMARY:Technological Solutions for Healthy Development
DESCRIPTION:This Blended Intensive Programme offered by Vidzeme UAS is open to PhD students from various fields\, including engineering\, social sciences\, and other disciplines\, encouraging interdisciplinary collaboration. 								\n				\n										\n						\n						\n							\n									Learn more\n					\n					\n								\n				\n		\n				\n				\n					\n	\n	Date & Time:	\n			29 June 2026\n\n		\n	\n	  -  \n\n	3 July 2026\n\n	\n				\n				\n				\n				\n					\n	\n	Organizer\n			\n			Vidzeme University of Applied Sciences			\n	\n\n	\n\n				\n				\n				\n				\n					\n	\n	Venue			\n				\n	\n		External Location	\n	\n	\n\n\n\n\n\n\n\n\n\n\n		\n	\n				\n				\n				\n				\n					\n		\n			\n	Open for\n		\n	E³UDRES² Students\n			\n	Online/On-site\n		\n	On-site\n			\n	Duration\n		\n	1-5 days\n			\n	Semester\n		\n	Spring/Summer\n			\n	Recognition\n		\n	ECTS\n			\n	Language\n		\n	English\n	\n\n				\n				\n				\n				\n					\n	\n\n	Categories:	\n		Other	\n\n				\n				\n				\n				\n					\n	\n		\n\n	\n	Add to calendar	\n		\n	\n\n		\n			\n									\n	Google Calendar\n\n									\n	iCalendar\n\n									\n	Outlook 365\n\n									\n	Outlook Live
URL:https://arena.eudres.eu/activity/technological-solutions-for-healthy-development/
LOCATION:Polytechnic University of Setúbal\, Portugal
CATEGORIES:Other
ATTACH;FMTTYPE=image/jpeg:https://arena.eudres.eu/wp-content/uploads/2026/03/campus-picture-ips.jpg
GEO:38.522096664654;-8.8387885856389
END:VEVENT
BEGIN:VEVENT
DTSTART;TZID=Europe/Brussels:20260424T170000
DTEND;TZID=Europe/Brussels:20260424T230000
DTSTAMP:20260420T201511
CREATED:20260410T085914Z
LAST-MODIFIED:20260420T181313Z
UID:10000016-1777050000-1777071600@arena.eudres.eu
SUMMARY:E³UDRES² at "Lange Nacht der Forschung"
DESCRIPTION:This Blended Intensive Programme offered by Vidzeme UAS is open to PhD students from various fields\, including engineering\, social sciences\, and other disciplines\, encouraging interdisciplinary collaboration. 								\n				\n										\n						\n						\n							\n									Learn more\n					\n					\n								\n				\n		\n				\n				\n					\n	\n	Date & Time:	\n			29 June 2026\n\n		\n	\n	  -  \n\n	3 July 2026\n\n	\n				\n				\n				\n				\n					\n	\n	Organizer\n			\n			Vidzeme University of Applied Sciences			\n	\n\n	\n\n				\n				\n				\n				\n					\n	\n	Venue			\n				\n	\n		External Location	\n	\n	\n\n\n\n\n\n\n\n\n\n\n		\n	\n				\n				\n				\n				\n					\n		\n			\n	Open for\n		\n	E³UDRES² Students\n			\n	Online/On-site\n		\n	On-site\n			\n	Duration\n		\n	1-5 days\n			\n	Semester\n		\n	Spring/Summer\n			\n	Recognition\n		\n	ECTS\n			\n	Language\n		\n	English\n	\n\n				\n				\n				\n				\n					\n	\n\n	Categories:	\n		Other	\n\n				\n				\n				\n				\n					\n	\n		\n\n	\n	Add to calendar	\n		\n	\n\n		\n			\n									\n	Google Calendar\n\n									\n	iCalendar\n\n									\n	Outlook 365\n\n									\n	Outlook Live
URL:https://arena.eudres.eu/activity/e%c2%b3udres%c2%b2-at-lange-nacht-der-forschung/
LOCATION:USTP – University of Applied Sciences St. Pölten\, Austria
CATEGORIES:Other
ATTACH;FMTTYPE=image/jpeg:https://arena.eudres.eu/wp-content/uploads/2026/03/campus-picture-stpuas.jpg
GEO:48.212960647342;15.631742110516
END:VEVENT
BEGIN:VEVENT
DTSTART;TZID=Europe/Brussels:20260428T143000
DTEND;TZID=Europe/Brussels:20260428T193000
DTSTAMP:20260420T201511
CREATED:20260408T130900Z
LAST-MODIFIED:20260420T181416Z
UID:10000012-1777386600-1777404600@arena.eudres.eu
SUMMARY:Impulse für die Hochschulstrategie 2040: European Universities als Innovationstreiber für die Hochschulen der Zukunft!?
DESCRIPTION:This Blended Intensive Programme offered by Vidzeme UAS is open to PhD students from various fields\, including engineering\, social sciences\, and other disciplines\, encouraging interdisciplinary collaboration. 								\n				\n										\n						\n						\n							\n									Learn more\n					\n					\n								\n				\n		\n				\n				\n					\n	\n	Date & Time:	\n			29 June 2026\n\n		\n	\n	  -  \n\n	3 July 2026\n\n	\n				\n				\n				\n				\n					\n	\n	Organizer\n			\n			Vidzeme University of Applied Sciences			\n	\n\n	\n\n				\n				\n				\n				\n					\n	\n	Venue			\n				\n	\n		External Location	\n	\n	\n\n\n\n\n\n\n\n\n\n\n		\n	\n				\n				\n				\n				\n					\n		\n			\n	Open for\n		\n	E³UDRES² Students\n			\n	Online/On-site\n		\n	On-site\n			\n	Duration\n		\n	1-5 days\n			\n	Semester\n		\n	Spring/Summer\n			\n	Recognition\n		\n	ECTS\n			\n	Language\n		\n	English\n	\n\n				\n				\n				\n				\n					\n	\n\n	Categories:	\n		Other	\n\n				\n				\n				\n				\n					\n	\n		\n\n	\n	Add to calendar	\n		\n	\n\n		\n			\n									\n	Google Calendar\n\n									\n	iCalendar\n\n									\n	Outlook 365\n\n									\n	Outlook Live
URL:https://arena.eudres.eu/activity/impulse-fur-die-hochschulstrategie-2040-european-universities-als-innovationstreiber-fur-die-hochschulen-der-zukunft/
LOCATION:External Location
CATEGORIES:Other
ATTACH;FMTTYPE=image/jpeg:https://arena.eudres.eu/wp-content/uploads/2026/04/260326-eudres-impulse-hochschulstrategie-event.jpg
END:VEVENT
BEGIN:VEVENT
DTSTART;TZID=Europe/Brussels:20260507T090000
DTEND;TZID=Europe/Brussels:20260507T160000
DTSTAMP:20260420T201511
CREATED:20260410T092636Z
LAST-MODIFIED:20260420T180111Z
UID:10000019-1778144400-1778169600@arena.eudres.eu
SUMMARY:Social Work Science Day 2026
DESCRIPTION:This Blended Intensive Programme offered by Vidzeme UAS is open to PhD students from various fields\, including engineering\, social sciences\, and other disciplines\, encouraging interdisciplinary collaboration. 								\n				\n										\n						\n						\n							\n									Learn more\n					\n					\n								\n				\n		\n				\n				\n					\n	\n	Date & Time:	\n			29 June 2026\n\n		\n	\n	  -  \n\n	3 July 2026\n\n	\n				\n				\n				\n				\n					\n	\n	Organizer\n			\n			Vidzeme University of Applied Sciences			\n	\n\n	\n\n				\n				\n				\n				\n					\n	\n	Venue			\n				\n	\n		External Location	\n	\n	\n\n\n\n\n\n\n\n\n\n\n		\n	\n				\n				\n				\n				\n					\n		\n			\n	Open for\n		\n	E³UDRES² Students\n			\n	Online/On-site\n		\n	On-site\n			\n	Duration\n		\n	1-5 days\n			\n	Semester\n		\n	Spring/Summer\n			\n	Recognition\n		\n	ECTS\n			\n	Language\n		\n	English\n	\n\n				\n				\n				\n				\n					\n	\n\n	Categories:	\n		Other	\n\n				\n				\n				\n				\n					\n	\n		\n\n	\n	Add to calendar	\n		\n	\n\n		\n			\n									\n	Google Calendar\n\n									\n	iCalendar\n\n									\n	Outlook 365\n\n									\n	Outlook Live
URL:https://arena.eudres.eu/activity/social-work-science-day-2026/
LOCATION:Online
CATEGORIES:Other
ATTACH;FMTTYPE=image/jpeg:https://arena.eudres.eu/wp-content/uploads/2026/03/campus-picture-stpuas.jpg
END:VEVENT
BEGIN:VEVENT
DTSTART;TZID=Europe/Brussels:20260508T110000
DTEND;TZID=Europe/Brussels:20260508T123000
DTSTAMP:20260420T201511
CREATED:20260410T091934Z
LAST-MODIFIED:20260420T180221Z
UID:10000018-1778238000-1778243400@arena.eudres.eu
SUMMARY:FEMALE Friday Talks: Financial Empowerment
DESCRIPTION:This Blended Intensive Programme offered by Vidzeme UAS is open to PhD students from various fields\, including engineering\, social sciences\, and other disciplines\, encouraging interdisciplinary collaboration. 								\n				\n										\n						\n						\n							\n									Learn more\n					\n					\n								\n				\n		\n				\n				\n					\n	\n	Date & Time:	\n			29 June 2026\n\n		\n	\n	  -  \n\n	3 July 2026\n\n	\n				\n				\n				\n				\n					\n	\n	Organizer\n			\n			Vidzeme University of Applied Sciences			\n	\n\n	\n\n				\n				\n				\n				\n					\n	\n	Venue			\n				\n	\n		External Location	\n	\n	\n\n\n\n\n\n\n\n\n\n\n		\n	\n				\n				\n				\n				\n					\n		\n			\n	Open for\n		\n	E³UDRES² Students\n			\n	Online/On-site\n		\n	On-site\n			\n	Duration\n		\n	1-5 days\n			\n	Semester\n		\n	Spring/Summer\n			\n	Recognition\n		\n	ECTS\n			\n	Language\n		\n	English\n	\n\n				\n				\n				\n				\n					\n	\n\n	Categories:	\n		Other	\n\n				\n				\n				\n				\n					\n	\n		\n\n	\n	Add to calendar	\n		\n	\n\n		\n			\n									\n	Google Calendar\n\n									\n	iCalendar\n\n									\n	Outlook 365\n\n									\n	Outlook Live
URL:https://arena.eudres.eu/activity/female-friday-talks-financial-empowerment/
LOCATION:Online
CATEGORIES:Other
ATTACH;FMTTYPE=image/jpeg:https://arena.eudres.eu/wp-content/uploads/2026/03/default-activity-image-scaled.jpeg
END:VEVENT
BEGIN:VEVENT
DTSTART;VALUE=DATE:20260629
DTEND;VALUE=DATE:20260704
DTSTAMP:20260420T201511
CREATED:20260410T094308Z
LAST-MODIFIED:20260420T090749Z
UID:10000022-1782691200-1783123199@arena.eudres.eu
SUMMARY:PhD Writing Lab: Craft\, Refine and Publish
DESCRIPTION:This Blended Intensive Programme offered by Vidzeme UAS is open to PhD students from various fields\, including engineering\, social sciences\, and other disciplines\, encouraging interdisciplinary collaboration. 								\n				\n										\n						\n						\n							\n									Learn more\n					\n					\n								\n				\n		\n				\n				\n					\n	\n	Date & Time:	\n			29 June 2026\n\n		\n	\n	  -  \n\n	3 July 2026\n\n	\n				\n				\n				\n				\n					\n	\n	Organizer\n			\n			Vidzeme University of Applied Sciences			\n	\n\n	\n\n				\n				\n				\n				\n					\n	\n	Venue			\n				\n	\n		External Location	\n	\n	\n\n\n\n\n\n\n\n\n\n\n		\n	\n				\n				\n				\n				\n					\n		\n			\n	Open for\n		\n	E³UDRES² Students\n			\n	Online/On-site\n		\n	On-site\n			\n	Duration\n		\n	1-5 days\n			\n	Semester\n		\n	Spring/Summer\n			\n	Recognition\n		\n	ECTS\n			\n	Language\n		\n	English\n	\n\n				\n				\n				\n				\n					\n	\n\n	Categories:	\n		Other	\n\n				\n				\n				\n				\n					\n	\n		\n\n	\n	Add to calendar	\n		\n	\n\n		\n			\n									\n	Google Calendar\n\n									\n	iCalendar\n\n									\n	Outlook 365\n\n									\n	Outlook Live
URL:https://arena.eudres.eu/activity/phd-writing-lab-craft-refine-and-publish/
LOCATION:External Location
CATEGORIES:Other
ATTACH;FMTTYPE=image/jpeg:https://arena.eudres.eu/wp-content/uploads/2026/03/default-activity-image-scaled.jpeg
END:VEVENT
BEGIN:VEVENT
DTSTART;VALUE=DATE:20260727
DTEND;VALUE=DATE:20260801
DTSTAMP:20260420T201511
CREATED:20260408T123705Z
LAST-MODIFIED:20260419T141326Z
UID:10000010-1785110400-1785542399@arena.eudres.eu
SUMMARY:Pride Summer Experience 2026
DESCRIPTION:This Blended Intensive Programme offered by Vidzeme UAS is open to PhD students from various fields\, including engineering\, social sciences\, and other disciplines\, encouraging interdisciplinary collaboration. 								\n				\n										\n						\n						\n							\n									Learn more\n					\n					\n								\n				\n		\n				\n				\n					\n	\n	Date & Time:	\n			29 June 2026\n\n		\n	\n	  -  \n\n	3 July 2026\n\n	\n				\n				\n				\n				\n					\n	\n	Organizer\n			\n			Vidzeme University of Applied Sciences			\n	\n\n	\n\n				\n				\n				\n				\n					\n	\n	Venue			\n				\n	\n		External Location	\n	\n	\n\n\n\n\n\n\n\n\n\n\n		\n	\n				\n				\n				\n				\n					\n		\n			\n	Open for\n		\n	E³UDRES² Students\n			\n	Online/On-site\n		\n	On-site\n			\n	Duration\n		\n	1-5 days\n			\n	Semester\n		\n	Spring/Summer\n			\n	Recognition\n		\n	ECTS\n			\n	Language\n		\n	English\n	\n\n				\n				\n				\n				\n					\n	\n\n	Categories:	\n		Other	\n\n				\n				\n				\n				\n					\n	\n		\n\n	\n	Add to calendar	\n		\n	\n\n		\n			\n									\n	Google Calendar\n\n									\n	iCalendar\n\n									\n	Outlook 365\n\n									\n	Outlook Live
URL:https://arena.eudres.eu/activity/pride-summer-experience-2026/
LOCATION:Saxion University of Applied Sciences\, Netherlands
CATEGORIES:Other
ATTACH;FMTTYPE=image/jpeg:https://arena.eudres.eu/wp-content/uploads/2026/04/260627-saxion-pride-experience-scaled.jpg
END:VEVENT
BEGIN:VEVENT
DTSTART;VALUE=DATE:20261012
DTEND;VALUE=DATE:20261017
DTSTAMP:20260420T201511
CREATED:20260408T125043Z
LAST-MODIFIED:20260420T081954Z
UID:10000011-1791763200-1792195199@arena.eudres.eu
SUMMARY:Student Wellbeing Systems: Building Peer‑Support Structures in Higher Education
DESCRIPTION:This Blended Intensive Programme offered by Vidzeme UAS is open to PhD students from various fields\, including engineering\, social sciences\, and other disciplines\, encouraging interdisciplinary collaboration. 								\n				\n										\n						\n						\n							\n									Learn more\n					\n					\n								\n				\n		\n				\n				\n					\n	\n	Date & Time:	\n			29 June 2026\n\n		\n	\n	  -  \n\n	3 July 2026\n\n	\n				\n				\n				\n				\n					\n	\n	Organizer\n			\n			Vidzeme University of Applied Sciences			\n	\n\n	\n\n				\n				\n				\n				\n					\n	\n	Venue			\n				\n	\n		External Location	\n	\n	\n\n\n\n\n\n\n\n\n\n\n		\n	\n				\n				\n				\n				\n					\n		\n			\n	Open for\n		\n	E³UDRES² Students\n			\n	Online/On-site\n		\n	On-site\n			\n	Duration\n		\n	1-5 days\n			\n	Semester\n		\n	Spring/Summer\n			\n	Recognition\n		\n	ECTS\n			\n	Language\n		\n	English\n	\n\n				\n				\n				\n				\n					\n	\n\n	Categories:	\n		Other	\n\n				\n				\n				\n				\n					\n	\n		\n\n	\n	Add to calendar	\n		\n	\n\n		\n			\n									\n	Google Calendar\n\n									\n	iCalendar\n\n									\n	Outlook 365\n\n									\n	Outlook Live
URL:https://arena.eudres.eu/activity/student-wellbeing-systems-building-peer-support-structures-in-higher-education/
LOCATION:USTP – University of Applied Sciences St. Pölten\, Austria
CATEGORIES:Other
ATTACH;FMTTYPE=image/jpeg:https://arena.eudres.eu/wp-content/uploads/2026/03/campus-picture-stpuas.jpg
GEO:48.212960647342;15.631742110516
END:VEVENT
END:VCALENDAR